BEGIN:VCALENDAR
VERSION:2.0
PRODID:icalendar-ruby
CALSCALE:GREGORIAN
METHOD:PUBLISH
BEGIN:VEVENT
DTSTAMP:20260421T170948Z
UID:17-1384256@magalieskruin.com
DTSTART:20260614T073000Z
DTEND:20260614T083000Z
CLASS:PUBLIC
CREATED:20260421T182215
DESCRIPTION:Gesinsdiens
LAST-MODIFIED:20260421T182215
LOCATION:
SUMMARY:Gesinsdiens
URL;VALUE=URI:https://www.magalieskruin.com/events/gesinsdiens--17/2026-06-
 14
END:VEVENT
END:VCALENDAR
