BEGIN:VCALENDAR
VERSION:2.0
PRODID:icalendar-ruby
CALSCALE:GREGORIAN
METHOD:PUBLISH
BEGIN:VEVENT
DTSTAMP:20260421T201624Z
UID:17-1385076@magalieskruin.com
DTSTART:20260628T073000Z
DTEND:20260628T083000Z
CLASS:PUBLIC
CREATED:20260421T210003
DESCRIPTION:Gesinsdiens
LAST-MODIFIED:20260421T210003
LOCATION:
SUMMARY:Gesinsdiens
URL;VALUE=URI:https://www.magalieskruin.com/events/gesinsdiens--17/2026-06-
 28
END:VEVENT
END:VCALENDAR
