BEGIN:VCALENDAR
VERSION:2.0
PRODID:icalendar-ruby
CALSCALE:GREGORIAN
METHOD:PUBLISH
BEGIN:VEVENT
DTSTAMP:20260421T232753Z
UID:17-1385896@magalieskruin.com
DTSTART:20260712T073000Z
DTEND:20260712T083000Z
CLASS:PUBLIC
CREATED:20260421T233707
DESCRIPTION:Gesinsdiens
LAST-MODIFIED:20260421T233707
LOCATION:
SUMMARY:Gesinsdiens
URL;VALUE=URI:https://www.magalieskruin.com/events/gesinsdiens--17/2026-07-
 12
END:VEVENT
END:VCALENDAR
