BEGIN:VCALENDAR
VERSION:2.0
PRODID:icalendar-ruby
CALSCALE:GREGORIAN
METHOD:PUBLISH
BEGIN:VEVENT
DTSTAMP:20260422T052012Z
UID:17-1386718@magalieskruin.com
DTSTART:20260809T073000Z
DTEND:20260809T083000Z
CLASS:PUBLIC
CREATED:20260422T021550
DESCRIPTION:Gesinsdiens
LAST-MODIFIED:20260422T021550
LOCATION:
SUMMARY:Gesinsdiens
URL;VALUE=URI:https://www.magalieskruin.com/events/gesinsdiens--17/2026-08-
 09
END:VEVENT
END:VCALENDAR
