BEGIN:VCALENDAR
VERSION:2.0
PRODID:icalendar-ruby
CALSCALE:GREGORIAN
METHOD:PUBLISH
BEGIN:VEVENT
DTSTAMP:20260422T120452Z
UID:17-1387541@magalieskruin.com
DTSTART:20260913T073000Z
DTEND:20260913T083000Z
CLASS:PUBLIC
CREATED:20260422T131618
DESCRIPTION:Gesinsdiens
LAST-MODIFIED:20260422T131618
LOCATION:
SUMMARY:Gesinsdiens
URL;VALUE=URI:https://www.magalieskruin.com/events/gesinsdiens--17/2026-09-
 13
END:VEVENT
END:VCALENDAR
