BEGIN:VCALENDAR
VERSION:2.0
PRODID:icalendar-ruby
CALSCALE:GREGORIAN
METHOD:PUBLISH
BEGIN:VEVENT
DTSTAMP:20260422T142933Z
UID:17-1388361@magalieskruin.com
DTSTART:20260927T073000Z
DTEND:20260927T083000Z
CLASS:PUBLIC
CREATED:20260422T161107
DESCRIPTION:Gesinsdiens
LAST-MODIFIED:20260422T161107
LOCATION:
SUMMARY:Gesinsdiens
URL;VALUE=URI:https://www.magalieskruin.com/events/gesinsdiens--17/2026-09-
 27
END:VEVENT
END:VCALENDAR
