BEGIN:VCALENDAR
VERSION:2.0
PRODID:icalendar-ruby
CALSCALE:GREGORIAN
METHOD:PUBLISH
BEGIN:VEVENT
DTSTAMP:20260422T155256Z
UID:17-1388362@magalieskruin.com
DTSTART:20261004T073000Z
DTEND:20261004T083000Z
CLASS:PUBLIC
CREATED:20260422T161107
DESCRIPTION:Gesinsdiens
LAST-MODIFIED:20260422T161107
LOCATION:
SUMMARY:Gesinsdiens
URL;VALUE=URI:https://www.magalieskruin.com/events/gesinsdiens--17/2026-10-
 04
END:VEVENT
END:VCALENDAR
