BEGIN:VCALENDAR
VERSION:2.0
PRODID:icalendar-ruby
CALSCALE:GREGORIAN
METHOD:PUBLISH
BEGIN:VEVENT
DTSTAMP:20260422T182127Z
UID:17-1389182@magalieskruin.com
DTSTART:20261018T073000Z
DTEND:20261018T083000Z
CLASS:PUBLIC
CREATED:20260422T190636
DESCRIPTION:Gesinsdiens
LAST-MODIFIED:20260422T190636
LOCATION:
SUMMARY:Gesinsdiens
URL;VALUE=URI:https://www.magalieskruin.com/events/gesinsdiens--17/2026-10-
 18
END:VEVENT
END:VCALENDAR
