BEGIN:VCALENDAR
VERSION:2.0
PRODID:icalendar-ruby
CALSCALE:GREGORIAN
METHOD:PUBLISH
BEGIN:VEVENT
DTSTAMP:20260422T205618Z
UID:17-1390002@magalieskruin.com
DTSTART:20261101T073000Z
DTEND:20261101T083000Z
CLASS:PUBLIC
CREATED:20260422T220125
DESCRIPTION:Gesinsdiens
LAST-MODIFIED:20260422T220125
LOCATION:
SUMMARY:Gesinsdiens
URL;VALUE=URI:https://www.magalieskruin.com/events/gesinsdiens--17/2026-11-
 01
END:VEVENT
END:VCALENDAR
